BEGIN:VCALENDAR
VERSION:2.0
PRODID:-//Canaan Town Library - ECPv6.15.11//NONSGML v1.0//EN
CALSCALE:GREGORIAN
METHOD:PUBLISH
X-WR-CALNAME:Canaan Town Library
X-ORIGINAL-URL:https://www.canaanlibrary.org
X-WR-CALDESC:Events for Canaan Town Library
REFRESH-INTERVAL;VALUE=DURATION:PT1H
X-Robots-Tag:noindex
X-PUBLISHED-TTL:PT1H
BEGIN:VTIMEZONE
TZID:America/New_York
BEGIN:DAYLIGHT
TZOFFSETFROM:-0500
TZOFFSETTO:-0400
TZNAME:EDT
DTSTART:20250309T070000
END:DAYLIGHT
BEGIN:STANDARD
TZOFFSETFROM:-0400
TZOFFSETTO:-0500
TZNAME:EST
DTSTART:20251102T060000
END:STANDARD
BEGIN:DAYLIGHT
TZOFFSETFROM:-0500
TZOFFSETTO:-0400
TZNAME:EDT
DTSTART:20260308T070000
END:DAYLIGHT
BEGIN:STANDARD
TZOFFSETFROM:-0400
TZOFFSETTO:-0500
TZNAME:EST
DTSTART:20261101T060000
END:STANDARD
BEGIN:DAYLIGHT
TZOFFSETFROM:-0500
TZOFFSETTO:-0400
TZNAME:EDT
DTSTART:20270314T070000
END:DAYLIGHT
BEGIN:STANDARD
TZOFFSETFROM:-0400
TZOFFSETTO:-0500
TZNAME:EST
DTSTART:20271107T060000
END:STANDARD
END:VTIMEZONE
BEGIN:VEVENT
DTSTART;TZID=America/New_York:20260101T130000
DTEND;TZID=America/New_York:20260101T170000
DTSTAMP:20260421T143910
CREATED:20251201T162848Z
LAST-MODIFIED:20251201T162848Z
UID:5679-1767272400-1767286800@www.canaanlibrary.org
SUMMARY:Holiday Closing
DESCRIPTION:
URL:https://www.canaanlibrary.org/event/holiday-closing-9/
LOCATION:Canaan Town Library\, 1173 US RT 4\, Canaan\, NH\, 03741\, United States
ATTACH;FMTTYPE=image/jpeg:https://www.canaanlibrary.org/wp-content/uploads/2021/01/4ce07a287de2a3376ad7ccf142f9adcc-1.jpg
ORGANIZER;CN="Canaan Town Library":MAILTO:circulationdesk@canaanlibrary.org
END:VEVENT
BEGIN:VEVENT
DTSTART;TZID=America/New_York:20260103T093000
DTEND;TZID=America/New_York:20260103T103000
DTSTAMP:20260421T143910
CREATED:20250924T154321Z
LAST-MODIFIED:20251201T160919Z
UID:5557-1767432600-1767436200@www.canaanlibrary.org
SUMMARY:Story Time
DESCRIPTION:All are welcome\, perfect for ages 0-5.
URL:https://www.canaanlibrary.org/event/story-time-9/
LOCATION:Canaan Town Library\, 1173 US RT 4\, Canaan\, NH\, 03741\, United States
ATTACH;FMTTYPE=image/jpeg:https://www.canaanlibrary.org/wp-content/uploads/2025/07/story-time.jpg
ORGANIZER;CN="Canaan Town Library":MAILTO:circulationdesk@canaanlibrary.org
END:VEVENT
BEGIN:VEVENT
DTSTART;TZID=America/New_York:20260107T180000
DTEND;TZID=America/New_York:20260107T193000
DTSTAMP:20260421T143910
CREATED:20251201T165121Z
LAST-MODIFIED:20251201T165121Z
UID:5720-1767808800-1767814200@www.canaanlibrary.org
SUMMARY:Tech Night
DESCRIPTION:Need help or have questions with your Kindle\, Laptop\, or other tech device? Come to Tech Night.
URL:https://www.canaanlibrary.org/event/tech-night-10/
LOCATION:Canaan Town Library\, 1173 US RT 4\, Canaan\, NH\, 03741\, United States
ATTACH;FMTTYPE=image/jpeg:https://www.canaanlibrary.org/wp-content/uploads/2025/09/tech-night.jpg
ORGANIZER;CN="Canaan Town Library":MAILTO:circulationdesk@canaanlibrary.org
END:VEVENT
BEGIN:VEVENT
DTSTART;TZID=America/New_York:20260108T183000
DTEND;TZID=America/New_York:20260108T193000
DTSTAMP:20260421T143910
CREATED:20251203T185304Z
LAST-MODIFIED:20251215T192619Z
UID:5758-1767897000-1767900600@www.canaanlibrary.org
SUMMARY:Culturally Curious: American Art at 250: Masterworks of a Nation
DESCRIPTION:Join us in celebrating America’s extraordinary artistic legacy as we commemorate our nation’s 250th anniversary with a curated exploration of the masterworks that have defined our cultural identity. From the luminous landscapes of the Hudson River School to the bold innovations of Abstract Expressionism\, this program showcases the diverse voices and revolutionary spirits that have shaped American art across two and a half centuries. Discover how American artists have continuously redefined not only our visual culture\, but art itself on the world stage.  \nJane Oneail is the founder of Culturally Curious\, a company that curates and presents art appreciation programs. Jane holds a master’s in Art History from Boston University and a master’s in Education from Harvard University. Born and raised in NH\, she has worked at some of the state’s most esteemed cultural institutions\, including the League of New Hampshire Craftsmen\, where she served as Executive Director\, and the Currier Museum of Art\, where she held the role of Senior Educator. Jane has also taught at the college level for more than a decade\, most recently at Southern New Hampshire University. For more information visit\niamculturallycurious.com \nThis free VIRTUAL program is sponsored collaboratively by Canaan Town Library\, the Converse Free Library\, and the Plainfield Libraries.  Here is the link to register: https://us02web.zoom.us/meeting/register/lG8QOQq0T-eBs1XWURbnDg
URL:https://www.canaanlibrary.org/event/culturally-curious-american-art-at-250-masterworks-of-a-nation/
LOCATION:NH
ATTACH;FMTTYPE=image/jpeg:https://www.canaanlibrary.org/wp-content/uploads/2025/12/W1siZiIsIjQ2NzUxNiJdLFsicCIsImNvbnZlcnQiLCItcXVhbGl0eSA5MCAtcmVzaXplIDIwMDB4MTQ0MFx1MDAzZSJdXQ.jpg
ORGANIZER;CN="Canaan Town Library":MAILTO:circulationdesk@canaanlibrary.org
END:VEVENT
BEGIN:VEVENT
DTSTART;TZID=America/New_York:20260119T130000
DTEND;TZID=America/New_York:20260119T200000
DTSTAMP:20260421T143910
CREATED:20260105T154122Z
LAST-MODIFIED:20260105T154439Z
UID:5791-1768827600-1768852800@www.canaanlibrary.org
SUMMARY:Holiday Closing
DESCRIPTION:The library will be closed in observance of Martin Luther King\, Jr./Civil Rights Day.
URL:https://www.canaanlibrary.org/event/holiday-closing-10/
LOCATION:Canaan Town Library\, 1173 US RT 4\, Canaan\, NH\, 03741\, United States
ATTACH;FMTTYPE=image/jpeg:https://www.canaanlibrary.org/wp-content/uploads/2026/01/Martin_Luther_King_press_conference_01269u_edit-e1767627867446.jpg
ORGANIZER;CN="Canaan Town Library":MAILTO:circulationdesk@canaanlibrary.org
END:VEVENT
BEGIN:VEVENT
DTSTART;TZID=America/New_York:20260121T180000
DTEND;TZID=America/New_York:20260121T193000
DTSTAMP:20260421T143910
CREATED:20251201T165158Z
LAST-MODIFIED:20260121T161416Z
UID:5722-1769018400-1769023800@www.canaanlibrary.org
SUMMARY:Cancelled due to illness. Tech Night
DESCRIPTION:Need help or have questions with your Kindle\, Laptop\, or other tech device? Come to Tech Night.
URL:https://www.canaanlibrary.org/event/tech-night-11/
LOCATION:Canaan Town Library\, 1173 US RT 4\, Canaan\, NH\, 03741\, United States
ATTACH;FMTTYPE=image/jpeg:https://www.canaanlibrary.org/wp-content/uploads/2025/09/tech-night.jpg
ORGANIZER;CN="Canaan Town Library":MAILTO:circulationdesk@canaanlibrary.org
END:VEVENT
BEGIN:VEVENT
DTSTART;TZID=America/New_York:20260126T174500
DTEND;TZID=America/New_York:20260126T190000
DTSTAMP:20260421T143910
CREATED:20251201T164043Z
LAST-MODIFIED:20260126T165551Z
UID:5693-1769449500-1769454000@www.canaanlibrary.org
SUMMARY:Cancelled due to weather: Library Trustees Meeting
DESCRIPTION:
URL:https://www.canaanlibrary.org/event/library-trustees-meeting/
LOCATION:EOC\, 52 NH RT 118\, Canaan\, 03741
ATTACH;FMTTYPE=image/jpeg:https://www.canaanlibrary.org/wp-content/uploads/2025/09/reading-55.jpg
ORGANIZER;CN="Canaan Town Library":MAILTO:circulationdesk@canaanlibrary.org
END:VEVENT
BEGIN:VEVENT
DTSTART;TZID=America/New_York:20260128T183000
DTEND;TZID=America/New_York:20260128T193000
DTSTAMP:20260421T143910
CREATED:20250924T160145Z
LAST-MODIFIED:20251201T162038Z
UID:5576-1769625000-1769628600@www.canaanlibrary.org
SUMMARY:Basement Bookies
DESCRIPTION:Started in 2002\, we meet once a month and read a variety of books ALL CHOSEN by book group members. Why are we called the Basement Bookies? — you’ll have to come to a discussion to find out. We encourage you to try this casual\, friendly\, and exciting group. The library does the best it can to have enough copies of the book each month for book group members to borrow.
URL:https://www.canaanlibrary.org/event/basement-bookies-4/
LOCATION:Canaan Methodist Church Vestry\, 1150 US RT 4\, Canaan\, NH\, 03741\, United States
ATTACH;FMTTYPE=image/jpeg:https://www.canaanlibrary.org/wp-content/uploads/2025/09/Book-Club.jpg
ORGANIZER;CN="Canaan Town Library":MAILTO:circulationdesk@canaanlibrary.org
END:VEVENT
BEGIN:VEVENT
DTSTART;TZID=America/New_York:20260131T100000
DTEND;TZID=America/New_York:20260131T120000
DTSTAMP:20260421T143910
CREATED:20251201T165912Z
LAST-MODIFIED:20251201T165912Z
UID:5729-1769853600-1769860800@www.canaanlibrary.org
SUMMARY:Lego Club
DESCRIPTION:Come click some bricks with us.  For children ages 5 and up!
URL:https://www.canaanlibrary.org/event/lego-club-5/
LOCATION:Canaan Town Library\, 1173 US RT 4\, Canaan\, NH\, 03741\, United States
ATTACH;FMTTYPE=image/webp:https://www.canaanlibrary.org/wp-content/uploads/2025/12/white-hat2.webp
ORGANIZER;CN="Canaan Town Library":MAILTO:circulationdesk@canaanlibrary.org
END:VEVENT
END:VCALENDAR