BEGIN:VCALENDAR
VERSION:2.0
PRODID:-//Canaan Town Library - ECPv6.15.11//NONSGML v1.0//EN
CALSCALE:GREGORIAN
METHOD:PUBLISH
X-ORIGINAL-URL:https://www.canaanlibrary.org
X-WR-CALDESC:Events for Canaan Town Library
REFRESH-INTERVAL;VALUE=DURATION:PT1H
X-Robots-Tag:noindex
X-PUBLISHED-TTL:PT1H
BEGIN:VTIMEZONE
TZID:America/New_York
BEGIN:DAYLIGHT
TZOFFSETFROM:-0500
TZOFFSETTO:-0400
TZNAME:EDT
DTSTART:20250309T070000
END:DAYLIGHT
BEGIN:STANDARD
TZOFFSETFROM:-0400
TZOFFSETTO:-0500
TZNAME:EST
DTSTART:20251102T060000
END:STANDARD
BEGIN:DAYLIGHT
TZOFFSETFROM:-0500
TZOFFSETTO:-0400
TZNAME:EDT
DTSTART:20260308T070000
END:DAYLIGHT
BEGIN:STANDARD
TZOFFSETFROM:-0400
TZOFFSETTO:-0500
TZNAME:EST
DTSTART:20261101T060000
END:STANDARD
BEGIN:DAYLIGHT
TZOFFSETFROM:-0500
TZOFFSETTO:-0400
TZNAME:EDT
DTSTART:20270314T070000
END:DAYLIGHT
BEGIN:STANDARD
TZOFFSETFROM:-0400
TZOFFSETTO:-0500
TZNAME:EST
DTSTART:20271107T060000
END:STANDARD
END:VTIMEZONE
BEGIN:VEVENT
DTSTART;TZID=America/New_York:20260221T100000
DTEND;TZID=America/New_York:20260221T120000
DTSTAMP:20260421T143215
CREATED:20260203T151520Z
LAST-MODIFIED:20260203T151520Z
UID:5823-1771668000-1771675200@www.canaanlibrary.org
SUMMARY:Japanese Calligraphy Class
DESCRIPTION:Step into Japanese culture with New Hampshire artist Ginger Armstrong! Learn to write\, speak\, and create art you can take home — and help bring beauty to the library.\nFree Event.\nOpen to Adults & Teens.\nLimited to 8 Participants.\nRegistration Required.\nContact the library at\ncirculationdesk@canaanlibrary.org OR 603-523-9650
URL:https://www.canaanlibrary.org/event/japanese-calligraphy-class/
LOCATION:Canaan Town Library\, 1173 US RT 4\, Canaan\, NH\, 03741\, United States
ATTACH;FMTTYPE=image/jpeg:https://www.canaanlibrary.org/wp-content/uploads/2026/02/reading-2-e1770131682593.jpg
END:VEVENT
END:VCALENDAR